BEGIN:VCALENDAR
VERSION:2.0
PRODID:-//Date iCal//NONSGML kigkonsult.se iCalcreator 2.20.2//
METHOD:PUBLISH
X-WR-CALNAME;VALUE=TEXT:MMA Global Events
BEGIN:VTIMEZONE
TZID:America/Sao_Paulo
BEGIN:STANDARD
DTSTART:20190217T000000
TZOFFSETFROM:-0200
TZOFFSETTO:-0300
TZNAME:-03
END:STANDARD
END:VTIMEZONE
BEGIN:VEVENT
UID:calendar.49119.field_date.0@mmaglobal.com
DTSTAMP:20260423T040611Z
CREATED:20260422T131949Z
DESCRIPTION:We are ready for MMA Innovate Brasil 2026\, where conversations
  go far beyond trends. Here\, we focus on what truly drives business. An e
 xclusive gathering designed for those at the forefront of decision-making 
 who understand that today\, marketing is less about messaging and more abo
 ut impact.\nEvent
DTSTART;TZID=America/Sao_Paulo:20261027T000000
DTEND;TZID=America/Sao_Paulo:20261027T234500
LAST-MODIFIED:20260422T143021Z
LOCATION:Casa Petra\, Av. Aratãs\, 1010 – Moema\, São Paulo\, Brazil
SUMMARY:MMA Innovate Brasil 2026
URL;TYPE=URI:https://mmaglobal.com/innovatebrasil2026
END:VEVENT
END:VCALENDAR
